BEGIN:VCALENDAR
VERSION:2.0
PRODID:-//Maitree Association Of America - ECPv6.15.20//NONSGML v1.0//EN
CALSCALE:GREGORIAN
METHOD:PUBLISH
X-WR-CALNAME:Maitree Association Of America
X-ORIGINAL-URL:https://maitreeusa.org
X-WR-CALDESC:Events for Maitree Association Of America
REFRESH-INTERVAL;VALUE=DURATION:PT1H
X-Robots-Tag:noindex
X-PUBLISHED-TTL:PT1H
BEGIN:VTIMEZONE
TZID:UTC
BEGIN:STANDARD
TZOFFSETFROM:+0000
TZOFFSETTO:+0000
TZNAME:UTC
DTSTART:20250101T000000
END:STANDARD
END:VTIMEZONE
BEGIN:VEVENT
DTSTART;TZID=UTC:20260502T140000
DTEND;TZID=UTC:20260502T200000
DTSTAMP:20260423T103352
CREATED:20250118T223802Z
LAST-MODIFIED:20260323T143115Z
UID:5855-1777730400-1777752000@maitreeusa.org
SUMMARY:Baishakhi/ Barsha Boron
DESCRIPTION:
URL:https://maitreeusa.org/event/baishakhi-barsha-boron/
LOCATION:First Presbyterian Church of Dutch Neck\, 154 South Mill Road\, West Windsor\, 08550\, United States
END:VEVENT
END:VCALENDAR